BEGIN:VCALENDAR
VERSION:2.0
PRODID:-//ZContent.net//ZapCalLib 1.0//EN
CALSCALE:GREGORIAN
METHOD:PUBLISH
BEGIN:VEVENT
SUMMARY:Cultural Discoveries | Passed Lots from 4/17
DTSTART:20260420T150000Z
DTEND:20260420T190000Z
UID:5e46593e-a059-4b12-99e0-c2e1bb84195d@artemisgallery.connectwp.invaluabl
 e.com
DTSTAMP:20260420T002727
Description:Visit https://connectwp.invaluable.com
LOCATION:https://connectwp.invaluable.com
END:VEVENT
END:VCALENDAR
