BEGIN:VCALENDAR
VERSION:2.0
PRODID:-//ZContent.net//ZapCalLib 1.0//EN
CALSCALE:GREGORIAN
METHOD:PUBLISH
BEGIN:VEVENT
SUMMARY:Fossils | Native American | Ethnographic Art
DTSTART:20260424T140000Z
DTEND:20260424T180000Z
UID:f12a32c7-47fe-477b-8713-24637c1f22c8@artemisgallery.connectwp.invaluabl
 e.com
DTSTAMP:20260420T002727
Description:Visit https://connectwp.invaluable.com
LOCATION:https://connectwp.invaluable.com
END:VEVENT
END:VCALENDAR
